BEGIN:VCALENDAR
VERSION:2.0
PRODID:-//Městská knihovna Orlová - ECPv4.4.5//NONSGML v1.0//EN
CALSCALE:GREGORIAN
METHOD:PUBLISH
X-WR-CALNAME:Městská knihovna Orlová
X-ORIGINAL-URL:https://mko.knihovna-orlova.cz
X-WR-CALDESC:Events for Městská knihovna Orlová
BEGIN:VEVENT
DTSTART;TZID=UTC+1:20221005T090000
DTEND;TZID=UTC+1:20221005T170000
DTSTAMP:20260423T073957
CREATED:20220812T122654Z
LAST-MODIFIED:20220812T122654Z
UID:17700-1664960400-1664989200@mko.knihovna-orlova.cz
SUMMARY:Prodej vyřazených knih\, časopisů a hudebních CD
DESCRIPTION:\n\n\n\n\n\n\n 5. 10. 2022 9:00 – 17:00 hodin\nProdej vyřazených knih\, časopisů a hudebních CD\nAkce bude tradičně probíhat ve vestibulu knihovny.\nCeny budou začínat na symbolických 5 Kč. Pokud tedy sháníte nějaký starší titul do své domácí knihovničky nebo prostě jen chcete udělat malou radost sobě či někomu z Vašich blízkých\, neváhejte a přijďte se za námi podívat.\nInformace: knihovna@knihovna-orlova.cz\, 596 522 449\n\n\n\n\n\n\n
URL:https://mko.knihovna-orlova.cz/event/prodej-vyrazenych-knih-casopisu-a-hudebnich-cd-7/
LOCATION:Orlová
END:VEVENT
END:VCALENDAR