BEGIN:VCALENDAR
VERSION:2.0
PRODID:-//Městská knihovna Orlová - ECPv4.4.5//NONSGML v1.0//EN
CALSCALE:GREGORIAN
METHOD:PUBLISH
X-WR-CALNAME:Městská knihovna Orlová
X-ORIGINAL-URL:https://mko.knihovna-orlova.cz
X-WR-CALDESC:Events for Městská knihovna Orlová
BEGIN:VEVENT
DTSTART;TZID=UTC+1:20230513T150000
DTEND;TZID=UTC+1:20230513T170000
DTSTAMP:20260423T100350
CREATED:20230502T115929Z
LAST-MODIFIED:20230502T115929Z
UID:18646-1683990000-1683997200@mko.knihovna-orlova.cz
SUMMARY:Prohlídky parku
DESCRIPTION:\n\n\n\n\n\nProhlídky parku\nKvětoslava Vítová\n\n\n\nZveme vás na komentované prohlídky zámeckého parku.\nNutná rezervace místa v Městském informačním centru nebo na tel. čísle 596 511 306.\nSraz pod schody u cukrárny Fuchsie.\nTermíny 4. 5.\, 13. 5.\, 25. 5. a 3. 6. 2023.\nAkce se uskuteční pouze v případě příznivého počasí.\nVstupné: 30 Kč\nDélka prohlídky cca 2 až 2\, 5 hodiny.\n\n\n\n\n\n\n\n\n
URL:https://mko.knihovna-orlova.cz/event/prohlidky-parku-4/
LOCATION:Orlová - Město\, 73514
END:VEVENT
END:VCALENDAR