BEGIN:VCALENDAR
VERSION:2.0
PRODID:-//Městská knihovna Orlová - ECPv4.4.5//NONSGML v1.0//EN
CALSCALE:GREGORIAN
METHOD:PUBLISH
X-WR-CALNAME:Městská knihovna Orlová
X-ORIGINAL-URL:https://mko.knihovna-orlova.cz
X-WR-CALDESC:Events for Městská knihovna Orlová
BEGIN:VEVENT
DTSTART;TZID=UTC+1:20220923T090000
DTEND;TZID=UTC+1:20220923T110000
DTSTAMP:20260423T085724
CREATED:20220919T140027Z
LAST-MODIFIED:20220919T140027Z
UID:17772-1663923600-1663930800@mko.knihovna-orlova.cz
SUMMARY:PSYCHOLOGIE
DESCRIPTION:\n\n\n23. 9. 2022 a 7. 10. 2022\nBezplatná psychologie\nPro seniory v Senior Pointu\nPouze v určených termínech.\nTermíny: 23. 9. a 7. 10. 2022. Další termíny v jednání. Vždy od 9:00 hodin.\nOtevírací doba Senior Pointu: Po a Pá: 8:00 – 12:00 hodin                                            \nVstupné: zdarma\nInformace: 773 743 025\, 596 511 306\, orlova@seniorpointy.cz\n\n\n
URL:https://mko.knihovna-orlova.cz/event/psychologie/
END:VEVENT
END:VCALENDAR