BEGIN:VCALENDAR
VERSION:2.0
PRODID:-//Městská knihovna Orlová - ECPv4.4.5//NONSGML v1.0//EN
CALSCALE:GREGORIAN
METHOD:PUBLISH
X-WR-CALNAME:Městská knihovna Orlová
X-ORIGINAL-URL:https://mko.knihovna-orlova.cz
X-WR-CALDESC:Events for Městská knihovna Orlová
BEGIN:VEVENT
DTSTART;TZID=UTC+1:20220218T090000
DTEND;TZID=UTC+1:20220218T120000
DTSTAMP:20260421T130902
CREATED:20220209T135735Z
LAST-MODIFIED:20220209T135735Z
UID:16794-1645174800-1645185600@mko.knihovna-orlova.cz
SUMMARY:Quilling – přání
DESCRIPTION:18. 2. 2022\n9:00 – 12:00 hodin\nQuilling – přání\nTvořivé dílny v Senior Pointu\nQuilling je výtvarná technika využívající proužky papíru\, které jsou stáčeny a formovány do požadovaného tvaru.\nVhodné pro začátečníky.\nVstupné: zdarma\nInformace: Veronika Gavelčíková\, 596 522 449\, hudebni@knihovna-orlova.cz
URL:https://mko.knihovna-orlova.cz/event/quilling-prani/
END:VEVENT
END:VCALENDAR