BEGIN:VCALENDAR
VERSION:2.0
PRODID:-//Městská knihovna Orlová - ECPv4.4.5//NONSGML v1.0//EN
CALSCALE:GREGORIAN
METHOD:PUBLISH
X-WR-CALNAME:Městská knihovna Orlová
X-ORIGINAL-URL:https://mko.knihovna-orlova.cz
X-WR-CALDESC:Events for Městská knihovna Orlová
BEGIN:VEVENT
DTSTART;TZID=UTC+1:20220704T080000
DTEND;TZID=UTC+1:20220704T120000
DTSTAMP:20260421T132535
CREATED:20220310T111228Z
LAST-MODIFIED:20220310T111228Z
UID:16988-1656921600-1656936000@mko.knihovna-orlova.cz
SUMMARY:Senior Point
DESCRIPTION:V Městské knihovně Orlová je od 31. ledna 2020 otevřen Senior Point\, který slouží jako kontaktní místo pro seniory\, ve kterém vyškolený pracovník pomáhá klientovi nalézt odpovědi na jeho dotazy\, vyhledává mu potřebné kontakty a informace. Na místě jsou k dispozici informační materiály partnerů a periodika ke čtení. Ve spolupráci s Městskou knihovnou jsou pořádány přednášky a besedy\, je zde možná registrace do slevové sítě Senior Pas a mnoho dalšího. Senior Point sídlí v přednáškovém sále knihovny. Pracovnice jsou Vám k dispozici každé pondělí a pátek od 8:00 do 12:00 hodin. V případě uzavření knihovny funguje Senior Point pouze v online režimu na emailu orlova@seniorpointy.cz a nebo na telefonním čísle 773 743 025. Veškeré služby jsou bezplatné. Senior Point byl zřízen za podpory Moravskoslezského kraje.
URL:https://mko.knihovna-orlova.cz/event/senior-point-23/
END:VEVENT
END:VCALENDAR