BEGIN:VCALENDAR
VERSION:2.0
PRODID:-//Městská knihovna Orlová - ECPv4.4.5//NONSGML v1.0//EN
CALSCALE:GREGORIAN
METHOD:PUBLISH
X-WR-CALNAME:Městská knihovna Orlová
X-ORIGINAL-URL:https://mko.knihovna-orlova.cz
X-WR-CALDESC:Events for Městská knihovna Orlová
BEGIN:VEVENT
DTSTART;TZID=UTC+1:20230515T140000
DTEND;TZID=UTC+1:20230515T153000
DTSTAMP:20260423T113510
CREATED:20230502T115440Z
LAST-MODIFIED:20230502T115440Z
UID:18639-1684159200-1684164600@mko.knihovna-orlova.cz
SUMMARY:Senioři – Rodinný rozpočet
DESCRIPTION:\n\n\n\n\n\n\n15. 5. 2023\n14:00 hodin\nSenioři – Rodinný rozpočet\naneb vyznej se ve svém vyúčtování\nSenior Point Orlová ve spolupráci se Sdružením obrany spotřebitelů Moravy a Slezska\, z. s. zve seniory na seminář se zaměřením na problematiku energií\, nákladů spojených s bydlením a právní vztahy k nemovitostem.\nAkce je finančně podpořena ze strany Ministerstva průmyslu a obchodu a ze strany Moravskoslezského kraje v rámci dotačního Programu na podporu neinvestičních aktivit z oblasti prevence kriminality na rok 2023.\nVstupné: zdarma\nMěstská knihovna Orlová\, přednáškový sál\nInformace: 596 522 449\, knihovna@knihovna-orlova.cz\n\n\n\n\n\n\n
URL:https://mko.knihovna-orlova.cz/event/seniori-rodinny-rozpocet/
END:VEVENT
END:VCALENDAR