BEGIN:VCALENDAR
VERSION:2.0
PRODID:-//Městská knihovna Orlová - ECPv4.4.5//NONSGML v1.0//EN
CALSCALE:GREGORIAN
METHOD:PUBLISH
X-WR-CALNAME:Městská knihovna Orlová
X-ORIGINAL-URL:https://mko.knihovna-orlova.cz
X-WR-CALDESC:Events for Městská knihovna Orlová
BEGIN:VEVENT
DTSTART;TZID=UTC+1:20220728T150000
DTEND;TZID=UTC+1:20220728T170000
DTSTAMP:20260421T224800
CREATED:20220620T131744Z
LAST-MODIFIED:20220620T131744Z
UID:17539-1659020400-1659027600@mko.knihovna-orlova.cz
SUMMARY:Setkání pisálků
DESCRIPTION:28. 7. 2022 15:00 hodin\nSetkání pisálků\nSrdečně Vás zveme na sraz orlovských pisálků. Setkání povede autorka Hana Kavalová.\nUrčeno pro všechny věkové kategorie.\nVstupné: zdarma\nInformace: 596 522 449\, knihovna@knihovna-orlova.cz
URL:https://mko.knihovna-orlova.cz/event/setkani-pisalku-10/
END:VEVENT
END:VCALENDAR