BEGIN:VCALENDAR
VERSION:2.0
PRODID:-//Městská knihovna Orlová - ECPv4.4.5//NONSGML v1.0//EN
CALSCALE:GREGORIAN
METHOD:PUBLISH
X-WR-CALNAME:Městská knihovna Orlová
X-ORIGINAL-URL:https://mko.knihovna-orlova.cz
X-WR-CALDESC:Events for Městská knihovna Orlová
BEGIN:VEVENT
DTSTART;TZID=UTC+1:20240523T160000
DTEND;TZID=UTC+1:20240523T170000
DTSTAMP:20260421T130020
CREATED:20240320T122520Z
LAST-MODIFIED:20240320T122520Z
UID:19732-1716480000-1716483600@mko.knihovna-orlova.cz
SUMMARY:Setkání pisálků
DESCRIPTION:\n\n\n\n\n\n\n23. 5. 2024\n16:00 hodin\nSetkání pisálků\nSrdečně Vás zveme na sraz orlovských pisálků. Setkání povede autorka Hana Nivnická.\nUrčeno pro všechny věkové kategorie.\nVstupné: zdarma\nPřednáškový sál – Městská knihovna Orlová (2. patro).\nInformace: 596 522 449\, knihovna@knihovna-orlova.cz\n\n\n\n\n\n\n
URL:https://mko.knihovna-orlova.cz/event/setkani-pisalku-27/
END:VEVENT
END:VCALENDAR