BEGIN:VCALENDAR
VERSION:2.0
PRODID:-//Městská knihovna Orlová - ECPv4.4.5//NONSGML v1.0//EN
CALSCALE:GREGORIAN
METHOD:PUBLISH
X-WR-CALNAME:Městská knihovna Orlová
X-ORIGINAL-URL:https://mko.knihovna-orlova.cz
X-WR-CALDESC:Events for Městská knihovna Orlová
BEGIN:VEVENT
DTSTART;TZID=UTC+1:20210624T160000
DTEND;TZID=UTC+1:20210624T180000
DTSTAMP:20260421T063119
CREATED:20210616T143629Z
LAST-MODIFIED:20210616T154116Z
UID:15922-1624550400-1624557600@mko.knihovna-orlova.cz
SUMMARY:Setkání pisálků
DESCRIPTION:Srdečně Vás zveme na sraz orlovských pisálků. Setkání povede autorka Hana Kavalová.\nUrčeno pro všechny věkové kategorie.\nVstupné: zdarma.\nInformace: 596 522 449
URL:https://mko.knihovna-orlova.cz/event/setkani-pisalku-3/
END:VEVENT
END:VCALENDAR