BEGIN:VCALENDAR
VERSION:2.0
PRODID:-//Městská knihovna Orlová - ECPv4.4.5//NONSGML v1.0//EN
CALSCALE:GREGORIAN
METHOD:PUBLISH
X-WR-CALNAME:Městská knihovna Orlová
X-ORIGINAL-URL:https://mko.knihovna-orlova.cz
X-WR-CALDESC:Events for Městská knihovna Orlová
BEGIN:VEVENT
DTSTART;TZID=UTC+1:20241212T160000
DTEND;TZID=UTC+1:20241212T170000
DTSTAMP:20260423T232722
CREATED:20240827T075556Z
LAST-MODIFIED:20240827T075556Z
UID:20197-1734019200-1734022800@mko.knihovna-orlova.cz
SUMMARY:Setkání pisálků
DESCRIPTION: \n\n\n\n\n\n\n\n12. 12. 2024\n16:00 hodin\nSetkání pisálků\nSrdečně Vás zveme na sraz orlovských pisálků. Setkání povede autorka Hana Nivnická.\nUrčeno pro všechny věkové kategorie.\nVstupné: zdarma\nPřednáškový sál – Městská knihovna Orlová (2. patro).\nInformace: 596 522 449\, knihovna@knihovna-orlova.cz\n\n\n\n\n\n\n
URL:https://mko.knihovna-orlova.cz/event/setkani-pisalku-32/
END:VEVENT
END:VCALENDAR