BEGIN:VCALENDAR
VERSION:2.0
PRODID:-//Městská knihovna Orlová - ECPv4.4.5//NONSGML v1.0//EN
CALSCALE:GREGORIAN
METHOD:PUBLISH
X-WR-CALNAME:Městská knihovna Orlová
X-ORIGINAL-URL:https://mko.knihovna-orlova.cz
X-WR-CALDESC:Events for Městská knihovna Orlová
BEGIN:VEVENT
DTSTART;TZID=UTC+1:20250227T160000
DTEND;TZID=UTC+1:20250227T170000
DTSTAMP:20260421T202631
CREATED:20241203T111417Z
LAST-MODIFIED:20241203T111417Z
UID:20658-1740672000-1740675600@mko.knihovna-orlova.cz
SUMMARY:Setkání pisálků
DESCRIPTION:\n\n\n\n\n\n\n27. 2. 2025\n16:00 hodin\nSetkání pisálků\nSrdečně Vás zveme na sraz orlovských pisálků. Setkání povede autorka Hana Nivnická.\nUrčeno pro všechny věkové kategorie.\nVstupné: zdarma\nPřednáškový sál – Městská knihovna Orlová (2. patro).\nInformace: 596 522 449\, knihovna@knihovna-orlova.cz\n\n\n\n\n\n\n
URL:https://mko.knihovna-orlova.cz/event/setkani-pisalku-35/
LOCATION:Masarykova 1324\, Orlová\, Moravskoslezský\, 73514\, Česká republika
END:VEVENT
END:VCALENDAR