BEGIN:VCALENDAR
VERSION:2.0
PRODID:-//Městská knihovna Orlová - ECPv4.4.5//NONSGML v1.0//EN
CALSCALE:GREGORIAN
METHOD:PUBLISH
X-WR-CALNAME:Městská knihovna Orlová
X-ORIGINAL-URL:https://mko.knihovna-orlova.cz
X-WR-CALDESC:Events for Městská knihovna Orlová
BEGIN:VEVENT
DTSTART;TZID=UTC+1:20260319T160000
DTEND;TZID=UTC+1:20260319T173000
DTSTAMP:20260426T010505
CREATED:20260219T094227Z
LAST-MODIFIED:20260219T094227Z
UID:22248-1773936000-1773941400@mko.knihovna-orlova.cz
SUMMARY:Setkání pisálků
DESCRIPTION:\n\n\n\n\n\n\n19. 3. 2026\n16:00 hodi\nSetkání pisálků\nSrdečně Vás zveme na sraz orlovských pisálků. Setkání povede autorka Hana Nivnická.\nUrčeno pro všechny věkové kategorie.\nVstupné: zdarma\nMěstská knihovna Orlová (2. patro)\nInformace: 596 522 449\, knihovna@knihovna-orlova.cz\n\n\n\n\n\n\n
URL:https://mko.knihovna-orlova.cz/event/setkani-pisalku-48/
LOCATION:Masarykova 1324\, Orlová\, Moravskoslezský\, 73514\, Česká republika
END:VEVENT
END:VCALENDAR