BEGIN:VCALENDAR
VERSION:2.0
PRODID:-//Městská knihovna Orlová - ECPv4.4.5//NONSGML v1.0//EN
CALSCALE:GREGORIAN
METHOD:PUBLISH
X-WR-CALNAME:Městská knihovna Orlová
X-ORIGINAL-URL:https://mko.knihovna-orlova.cz
X-WR-CALDESC:Events for Městská knihovna Orlová
BEGIN:VEVENT
DTSTART;TZID=UTC+1:20211021T160000
DTEND;TZID=UTC+1:20211021T180000
DTSTAMP:20260421T140657
CREATED:20210923T144222Z
LAST-MODIFIED:20210923T144222Z
UID:16301-1634832000-1634839200@mko.knihovna-orlova.cz
SUMMARY:Setkání pisálků
DESCRIPTION:\n\n\n\n\n\n\nSrdečně Vás zveme na sraz orlovských pisálků. Setkání povede autorka Hana Kavalová.\nUrčeno pro všechny věkové kategorie.\nVstupné: zdarma.\nInformace: 596 522 449\n\n\n\n\n\n\n
URL:https://mko.knihovna-orlova.cz/event/setkani-pisalku-5/
END:VEVENT
END:VCALENDAR