BEGIN:VCALENDAR
VERSION:2.0
PRODID:-//Městská knihovna Orlová - ECPv4.4.5//NONSGML v1.0//EN
CALSCALE:GREGORIAN
METHOD:PUBLISH
X-WR-CALNAME:Městská knihovna Orlová
X-ORIGINAL-URL:https://mko.knihovna-orlova.cz
X-WR-CALDESC:Events for Městská knihovna Orlová
BEGIN:VEVENT
DTSTART;TZID=UTC+1:20220331T160000
DTEND;TZID=UTC+1:20220331T180000
DTSTAMP:20260421T105417
CREATED:20220208T145800Z
LAST-MODIFIED:20220208T145800Z
UID:16790-1648742400-1648749600@mko.knihovna-orlova.cz
SUMMARY:Setkání pisálků
DESCRIPTION:31. 3. 2022 16:00 hodin\nSetkání pisálků\nSrdečně Vás zveme na sraz orlovských pisálků. Setkání povede autorka Hana Kavalová.\nUrčeno pro všechny věkové kategorie.\nVstupné: zdarma\nInformace: 596 522 449\, knihovna@knihovna-orlova.cz\n\n 
URL:https://mko.knihovna-orlova.cz/event/setkani-pisalku-7/
END:VEVENT
END:VCALENDAR