BEGIN:VCALENDAR
VERSION:2.0
PRODID:-//Městská knihovna Orlová - ECPv4.4.5//NONSGML v1.0//EN
CALSCALE:GREGORIAN
METHOD:PUBLISH
X-WR-CALNAME:Městská knihovna Orlová
X-ORIGINAL-URL:https://mko.knihovna-orlova.cz
X-WR-CALDESC:Events for Městská knihovna Orlová
BEGIN:VEVENT
DTSTART;TZID=UTC+1:20201027T090000
DTEND;TZID=UTC+1:20201027T120000
DTSTAMP:20260423T134544
CREATED:20200914T125003Z
LAST-MODIFIED:20201013T101501Z
UID:14775-1603789200-1603800000@mko.knihovna-orlova.cz
SUMMARY:Setkávání s mozkovými závity
DESCRIPTION:ZRUŠENO!\n\n 
URL:https://mko.knihovna-orlova.cz/event/setkavani-s-mozkovymi-zavity-37/
END:VEVENT
END:VCALENDAR