BEGIN:VCALENDAR
VERSION:2.0
PRODID:-//Městská knihovna Orlová - ECPv4.4.5//NONSGML v1.0//EN
CALSCALE:GREGORIAN
METHOD:PUBLISH
X-WR-CALNAME:Městská knihovna Orlová
X-ORIGINAL-URL:https://mko.knihovna-orlova.cz
X-WR-CALDESC:Events for Městská knihovna Orlová
BEGIN:VEVENT
DTSTART;TZID=UTC+1:20211125T090000
DTEND;TZID=UTC+1:20211125T110000
DTSTAMP:20260421T043419
CREATED:20211027T135725Z
LAST-MODIFIED:20211027T135725Z
UID:16423-1637830800-1637838000@mko.knihovna-orlova.cz
SUMMARY:Setkávání s mozkovými závity
DESCRIPTION:Setkávání s mozkovými závity\nCvičení pro lepší paměť zábavnou formou!\nPřednáší PhDr. Mgr. Hana Vavříková\, PhD.\nInformace: Taťána Jaroschová\, 596 522 449
URL:https://mko.knihovna-orlova.cz/event/setkavani-s-mozkovymi-zavity-43/
END:VEVENT
END:VCALENDAR