BEGIN:VCALENDAR
VERSION:2.0
PRODID:-//Městská knihovna Orlová - ECPv4.4.5//NONSGML v1.0//EN
CALSCALE:GREGORIAN
METHOD:PUBLISH
X-WR-CALNAME:Městská knihovna Orlová
X-ORIGINAL-URL:https://mko.knihovna-orlova.cz
X-WR-CALDESC:Events for Městská knihovna Orlová
BEGIN:VEVENT
DTSTART;TZID=UTC+1:20220203T090000
DTEND;TZID=UTC+1:20220203T110000
DTSTAMP:20260421T090502
CREATED:20220125T104907Z
LAST-MODIFIED:20220125T104907Z
UID:16723-1643878800-1643886000@mko.knihovna-orlova.cz
SUMMARY:Setkávání s mozkovými závity
DESCRIPTION:3. 2. 2022\n9:00 – 11:00 hodin\nSetkávání s mozkovými závity\nCvičení pro lepší paměť zábavnou formou!\nPřednáší PhDr. Mgr. Hana Vavříková\, PhD.\nInformace: Taťána Jaroschová\, 596 522 449
URL:https://mko.knihovna-orlova.cz/event/setkavani-s-mozkovymi-zavity-45/
END:VEVENT
END:VCALENDAR