BEGIN:VCALENDAR
VERSION:2.0
PRODID:-//Městská knihovna Orlová - ECPv4.4.5//NONSGML v1.0//EN
CALSCALE:GREGORIAN
METHOD:PUBLISH
X-WR-CALNAME:Městská knihovna Orlová
X-ORIGINAL-URL:https://mko.knihovna-orlova.cz
X-WR-CALDESC:Events for Městská knihovna Orlová
BEGIN:VEVENT
DTSTART;TZID=UTC+1:20220526T090000
DTEND;TZID=UTC+1:20220526T110000
DTSTAMP:20260421T140911
CREATED:20220406T094644Z
LAST-MODIFIED:20220413T090906Z
UID:17153-1653555600-1653562800@mko.knihovna-orlova.cz
SUMMARY:Setkávání s mozkovými závity
DESCRIPTION: 26. 5. 2022\n9:00 – 11:00 hodin\nSetkávání s mozkovými závity\nCvičení pro lepší paměť zábavnou formou!\nPřednáší PhDr. Mgr. Hana Vavříková\, PhD.\nInformace: Taťána Jaroschová\, 596 522 449
URL:https://mko.knihovna-orlova.cz/event/setkavani-s-mozkovymi-zavity-52/
END:VEVENT
END:VCALENDAR