BEGIN:VCALENDAR
VERSION:2.0
PRODID:-//Městská knihovna Orlová - ECPv4.4.5//NONSGML v1.0//EN
CALSCALE:GREGORIAN
METHOD:PUBLISH
X-WR-CALNAME:Městská knihovna Orlová
X-ORIGINAL-URL:https://mko.knihovna-orlova.cz
X-WR-CALDESC:Events for Městská knihovna Orlová
BEGIN:VEVENT
DTSTART;TZID=UTC+1:20220615T090000
DTEND;TZID=UTC+1:20220615T110000
DTSTAMP:20260421T163850
CREATED:20220504T093600Z
LAST-MODIFIED:20220528T084003Z
UID:17273-1655283600-1655290800@mko.knihovna-orlova.cz
SUMMARY:Setkávání s mozkovými závity
DESCRIPTION:\n\n\n\n\n\n\n15. 6. 2022\nPřesunuto z 9. 6. 2022 – pozor středa\n9:00 – 11:00 hodin\nSetkávání s mozkovými závity\nCvičení pro lepší paměť zábavnou formou!\nPřednáší PhDr. Mgr. Hana Vavříková\, PhD.\nInformace: Taťána Jaroschová\, 596 522 449\n\n\n\n\n\n\n
URL:https://mko.knihovna-orlova.cz/event/setkavani-s-mozkovymi-zavity-53/
END:VEVENT
END:VCALENDAR