BEGIN:VCALENDAR
VERSION:2.0
PRODID:-//Městská knihovna Orlová - ECPv4.4.5//NONSGML v1.0//EN
CALSCALE:GREGORIAN
METHOD:PUBLISH
X-WR-CALNAME:Městská knihovna Orlová
X-ORIGINAL-URL:https://mko.knihovna-orlova.cz
X-WR-CALDESC:Events for Městská knihovna Orlová
BEGIN:VEVENT
DTSTART;TZID=UTC+1:20160609T093000
DTEND;TZID=UTC+1:20160609T093000
DTSTAMP:20260420T084357
CREATED:20160523T110707Z
LAST-MODIFIED:20160523T110707Z
UID:726-1465464600-1465464600@mko.knihovna-orlova.cz
SUMMARY:Setkávání u ručních prací - Posezení s nápady
DESCRIPTION:Informace: Lenka Heczková\nVstupné. zdarma
URL:https://mko.knihovna-orlova.cz/event/setkavani-u-rucnich-praci-posezeni-s-napady/
ORGANIZER;CN="M%C4%9Bstsk%C3%A1%20knihovna%20Orlov%C3%A1":MAILTO:knihovna@knihovna-orlova.cz
END:VEVENT
END:VCALENDAR