BEGIN:VCALENDAR
VERSION:2.0
PRODID:-//Městská knihovna Orlová - ECPv4.4.5//NONSGML v1.0//EN
CALSCALE:GREGORIAN
METHOD:PUBLISH
X-WR-CALNAME:Městská knihovna Orlová
X-ORIGINAL-URL:https://mko.knihovna-orlova.cz
X-WR-CALDESC:Events for Městská knihovna Orlová
BEGIN:VEVENT
DTSTART;TZID=UTC+1:20200924T093000
DTEND;TZID=UTC+1:20200924T120000
DTSTAMP:20260423T081418
CREATED:20200902T092539Z
LAST-MODIFIED:20200902T092616Z
UID:14723-1600939800-1600948800@mko.knihovna-orlova.cz
SUMMARY:Setkávání u ručních prací: vázička a květináč z dřívek
DESCRIPTION:Co s prázdnými plastovými lahvemi? Stačí trocha fantazie a šikovnosti.\nMůžete je proměnit třeba ve vázu nebo květináč.\nBudeme potřebovat: dvě plastové láhve (širší a užší)\, dřívka od nanuků nebo dřevěné špachtličky\, tavnou pistoli\, různé provázky\, stužky\, lemovky\, krajky\, nůžky.\nInformace: Lenka Heczková\, 596 522 449\n\n \n\n 
URL:https://mko.knihovna-orlova.cz/event/setkavani-u-rucnich-praci-vazicka-a-kvetinac-z-drivek/
END:VEVENT
END:VCALENDAR