BEGIN:VCALENDAR
VERSION:2.0
PRODID:-//Městská knihovna Orlová - ECPv4.4.5//NONSGML v1.0//EN
CALSCALE:GREGORIAN
METHOD:PUBLISH
X-WR-CALNAME:Městská knihovna Orlová
X-ORIGINAL-URL:https://mko.knihovna-orlova.cz
X-WR-CALDESC:Events for Městská knihovna Orlová
BEGIN:VEVENT
DTSTART;TZID=UTC+1:20260217T100000
DTEND;TZID=UTC+1:20260217T170000
DTSTAMP:20260426T005709
CREATED:20260205T092856Z
LAST-MODIFIED:20260205T092856Z
UID:22184-1771322400-1771347600@mko.knihovna-orlova.cz
SUMMARY:Slavíme
DESCRIPTION:17. 2. 2026\n10:00 – 17:00 hodin\nSlavíme\nNaše knihovna má narozeniny\nPřijďte si vytisknout pamětní list knihovny na tiskařském lisu\nOddělení pro dospělé čtenáře – Městská knihovna Orlová (1. patro).\n596 522 449\, knihovna@knihovna-orlova.cz
URL:https://mko.knihovna-orlova.cz/event/slavime/
ORGANIZER;CN="M%C4%9Bstsk%C3%A1%20knihovna%20Orlov%C3%A1":MAILTO:detska.knihovna@knihovna-orlova.cz
END:VEVENT
END:VCALENDAR