BEGIN:VCALENDAR
VERSION:2.0
PRODID:-//Městská knihovna Orlová - ECPv4.4.5//NONSGML v1.0//EN
CALSCALE:GREGORIAN
METHOD:PUBLISH
X-WR-CALNAME:Městská knihovna Orlová
X-ORIGINAL-URL:https://mko.knihovna-orlova.cz
X-WR-CALDESC:Events for Městská knihovna Orlová
BEGIN:VEVENT
DTSTART;TZID=UTC+1:20250203T090000
DTEND;TZID=UTC+1:20250203T103000
DTSTAMP:20260421T144703
CREATED:20241213T131531Z
LAST-MODIFIED:20241213T131744Z
UID:20717-1738573200-1738578600@mko.knihovna-orlova.cz
SUMMARY:SOS tlačítko
DESCRIPTION:\n\n\n\n\n\n\n\n\n\n\n\n\n\n\n\n\n\n\n\n\n\n\n\n\n\n\n\n\n3. 2. 2025\n9:00 hodin\nSOS tlačítko\nAnděl strážný\nJsme spolehlivá sociální služba\, která Vám poskytuje jistotu\, bezpečí\na pomoc v krizových situacích\, ať už jste doma nebo venku.\nJsme tady pro Vás 24 hodin denně\, 365 dní v roce.\nVe chvílích náhlého zhoršení zdravotního stavu nebo pádu si zavoláte pomoc\njediným stiskem SOS tlačítka. Skrze zařízení Vám můžeme připomínat i léky\,\ncestu k lékaři nebo si s Vámi popovídat.\nVstupné: zdarma\nSenior point – Městská knihovna Orlová (2. patro).\nInformace: studovna@knihovna-orlova.cz\, 596 522 449 \n\n\n\n\n\n\n\n\n\n\n\n\n\n\n\n\n\n\n\n\n\n\n\n\n\n\n\n\n
URL:https://mko.knihovna-orlova.cz/event/sos-tlacitko/
END:VEVENT
END:VCALENDAR