BEGIN:VCALENDAR
VERSION:2.0
PRODID:-//Městská knihovna Orlová - ECPv4.4.5//NONSGML v1.0//EN
CALSCALE:GREGORIAN
METHOD:PUBLISH
X-WR-CALNAME:Městská knihovna Orlová
X-ORIGINAL-URL:https://mko.knihovna-orlova.cz
X-WR-CALDESC:Events for Městská knihovna Orlová
BEGIN:VEVENT
DTSTART;TZID=UTC+1:20240524T090000
DTEND;TZID=UTC+1:20240524T110000
DTSTAMP:20260421T165816
CREATED:20240319T143345Z
LAST-MODIFIED:20240319T143345Z
UID:19717-1716541200-1716548400@mko.knihovna-orlova.cz
SUMMARY:Telekomunikační akademie
DESCRIPTION:\n\n\n\n\n\n\n24. 5. 2024\n9:00 hodin\nVzdělávací besedy pro seniory\nPoštovní služby aneb praktické informace pro spotřebitele\nPořádá: Český telekomunikační úřad\nBez nutnosti rezervace.\nVstupné: zdarma\nSenior point – Městská knihovna Orlová (2. patro).\nInformace: 596 522 449\, studovna@knihovna-orlova.cz\n\n\n\n\n\n\n
URL:https://mko.knihovna-orlova.cz/event/telekomunikacni-akademie-2/
LOCATION:Orlová
END:VEVENT
END:VCALENDAR