BEGIN:VCALENDAR
VERSION:2.0
PRODID:-//Městská knihovna Orlová - ECPv4.4.5//NONSGML v1.0//EN
CALSCALE:GREGORIAN
METHOD:PUBLISH
X-WR-CALNAME:Městská knihovna Orlová
X-ORIGINAL-URL:https://mko.knihovna-orlova.cz
X-WR-CALDESC:Events for Městská knihovna Orlová
BEGIN:VEVENT
DTSTART;TZID=UTC+1:20240502T170000
DTEND;TZID=UTC+1:20240502T190000
DTSTAMP:20260421T160143
CREATED:20240320T144705Z
LAST-MODIFIED:20240320T144705Z
UID:19776-1714669200-1714676400@mko.knihovna-orlova.cz
SUMMARY:Tradiční čínská medicína
DESCRIPTION:\n\n\n\n\n\n\n2. 5. 2024 17:00 hodin\nTradiční čínská medicína\nCyklus 5 přednášek\n5. Zažívací obtíže: Zažívání v moderní době reaguje nejen na nevhodnou stravu\, ale také na stresy. Povíme si\, co je z hlediska stravování největší nešvar\, jenž nám oslabuje žaludek i střeva\, objasníme si roli jater a sleziny v pojetí tradiční čínské medicíny. A především si ukážeme\, jaké změny je nutné udělat ve stravování\, aby se vám vyhnuly zažívací obtíže dnešní doby – vředy\, zánětlivá onemocnění\, alergické reakce\, nevolnosti\, ale také průjmy\, zácpy či propady orgánů.\nLektorné: 30 Kč / přednáška – splatné na místě / Na akci není nutná rezervace.\nPřednáškový sál – Městská knihovna Orlová (2. patro).\nInformace: 596 511 306\, mic@knihovna-orlova.cz\, www.zboznovanazena.cz\n\n\n\n\n\n\n
URL:https://mko.knihovna-orlova.cz/event/tradicni-cinska-medicina-10/
LOCATION:Orlová
END:VEVENT
END:VCALENDAR