BEGIN:VCALENDAR
VERSION:2.0
PRODID:-//Městská knihovna Orlová - ECPv4.4.5//NONSGML v1.0//EN
CALSCALE:GREGORIAN
METHOD:PUBLISH
X-WR-CALNAME:Městská knihovna Orlová
X-ORIGINAL-URL:https://mko.knihovna-orlova.cz
X-WR-CALDESC:Events for Městská knihovna Orlová
BEGIN:VEVENT
DTSTART;TZID=UTC+1:20221124T170000
DTEND;TZID=UTC+1:20221124T180000
DTSTAMP:20260423T054132
CREATED:20220721T094451Z
LAST-MODIFIED:20230209T072306Z
UID:17652-1669309200-1669312800@mko.knihovna-orlova.cz
SUMMARY:Tradiční čínská medicína
DESCRIPTION:\n\n\n\n\n\n\n24. 11. 2022 17:00 hodin\nTradiční čínská medicína\nCyklus 5 přednášek\nZima\nZima je období klidu a zvnitřnění a podle čínské medicíny pomocí prvku vody vládne ledvinám a močovému měchýři. Proto se při tomto setkání podíváme na únavu\, ale také plodnost\, chuť a sílu do života\, dlouhověkost a zdravé stárnutí. Naučíte se\, jak své ledviny posílit a jak se celkově cítit lépe pomocí stravy\, bylinek a hub a pár důležitých akupresurních bodů.\nLektorka: Mgr. Daniela Pilařová\, www.zboznovanazena.cz\nUrčeno pro všechny věkové kategorie.\nVstupné: 30 Kč / přednáška – splatné na místě\nInformace: 596 511 306\, mic@knihovna-orlova.cz\n\n\n\n\n\n\n
URL:https://mko.knihovna-orlova.cz/event/tradicni-cinska-medicina-3/
END:VEVENT
END:VCALENDAR