BEGIN:VCALENDAR
VERSION:2.0
PRODID:-//Městská knihovna Orlová - ECPv4.4.5//NONSGML v1.0//EN
CALSCALE:GREGORIAN
METHOD:PUBLISH
X-WR-CALNAME:Městská knihovna Orlová
X-ORIGINAL-URL:https://mko.knihovna-orlova.cz
X-WR-CALDESC:Events for Městská knihovna Orlová
BEGIN:VEVENT
DTSTART;TZID=UTC+1:20230209T170000
DTEND;TZID=UTC+1:20230209T180000
DTSTAMP:20260423T070747
CREATED:20220721T094928Z
LAST-MODIFIED:20230209T072041Z
UID:17654-1675962000-1675965600@mko.knihovna-orlova.cz
SUMMARY:Tradiční čínská medicína
DESCRIPTION:\n\n\n\n\n\n\n9. 2. 2023 17:00 hodin - POZOR ZMĚNA TERMÍNU\nTradiční čínská medicína\nCyklus 5 přednášek\nJaro\nJaro skrze prvek dřeva vládne orgánům játra a žlučník\, a proto na jaře býváme nejen plní nové energie\, ale také podrážděnosti a často i vzteku. Při této přednášce zjistíte\, proč máte různé neurologické potíže (obtíže se zrakem\, tetanii\, epilepsii\, ale také problémy s menstruací nebo menopauzou). Naučíte se ovlivňovat pár cenných bodů na zklidnění emocí\, dozvíte se o tom\, které byliny a houby vám pomohou pro lepší pocit i kondici.\nLektorka: Mgr. Daniela Pilařová\, www.zboznovanazena.cz\nUrčeno pro všechny věkové kategorie.\nVstupné: 30 Kč / přednáška – splatné na místě\nInformace: 596 511 306\, mic@knihovna-orlova.cz\n\n\n\n\n\n\n
URL:https://mko.knihovna-orlova.cz/event/tradicni-cinska-medicina-4/
END:VEVENT
END:VCALENDAR