BEGIN:VCALENDAR
VERSION:2.0
PRODID:-//Městská knihovna Orlová - ECPv4.4.5//NONSGML v1.0//EN
CALSCALE:GREGORIAN
METHOD:PUBLISH
X-WR-CALNAME:Městská knihovna Orlová
X-ORIGINAL-URL:https://mko.knihovna-orlova.cz
X-WR-CALDESC:Events for Městská knihovna Orlová
BEGIN:VEVENT
DTSTART;TZID=UTC+1:20230511T170000
DTEND;TZID=UTC+1:20230511T180000
DTSTAMP:20260423T083815
CREATED:20220721T110151Z
LAST-MODIFIED:20230209T071951Z
UID:17656-1683824400-1683828000@mko.knihovna-orlova.cz
SUMMARY:Tradiční čínská medicína
DESCRIPTION:\n\n\n\n\n\n\n11. 5. 2023 17:00 hodin\nTradiční čínská medicína\nCyklus 5 přednášek\nLéto\nK létu a elementu ohně patří srdíčko a tenké střevo. Naučte se s námi\, jak se o ně starat\, jak se chovat v létě\, abyste měli v pořádku oběhový systém\, i co dělat dlouhodobě\, abyste nejen netrpěli obtížemi se srdcem\, ale ani zažívacími potížemi. Tématem bude také psychika a její záludnosti. Odnesete si řadu stravovacích tipů na zlepšení kondice a přehled bylin a pár akupresurních bodů\, jež vám na vaší cestě za zdravím také pomohou.\nLektorka: Mgr. Daniela Pilařová\, www.zboznovanazena.cz\nUrčeno pro všechny věkové kategorie.\nVstupné: 30 Kč / přednáška – splatné na místě\nInformace: 596 511 306\, mic@knihovna-orlova.cz\n\n\n\n\n\n\n
URL:https://mko.knihovna-orlova.cz/event/tradicni-cinska-medicina-5/
END:VEVENT
END:VCALENDAR