BEGIN:VCALENDAR
VERSION:2.0
PRODID:-//Městská knihovna Orlová - ECPv4.4.5//NONSGML v1.0//EN
CALSCALE:GREGORIAN
METHOD:PUBLISH
X-WR-CALNAME:Městská knihovna Orlová
X-ORIGINAL-URL:https://mko.knihovna-orlova.cz
X-WR-CALDESC:Events for Městská knihovna Orlová
BEGIN:VEVENT
DTSTART;TZID=UTC+1:20160607T090000
DTEND;TZID=UTC+1:20160607T090000
DTSTAMP:20260422T095228
CREATED:20160523T110536Z
LAST-MODIFIED:20160523T110554Z
UID:723-1465290000-1465290000@mko.knihovna-orlova.cz
SUMMARY:Trénování paměti
DESCRIPTION:Nenechme mozek zahálet. Cvičení pro lepší paměť zábavnou formou.\nPřednáší PhDr. Mgr. Hana Vavříková\nVstupné: 100\,- Kč/celý cyklus\, 30\,- Kč/1 lekce\nInformace: Taťána Jaroschová
URL:https://mko.knihovna-orlova.cz/event/trebovani-pameti/
ORGANIZER;CN="M%C4%9Bstsk%C3%A1%20knihovna%20Orlov%C3%A1":MAILTO:knihovna@knihovna-orlova.cz
END:VEVENT
END:VCALENDAR