BEGIN:VCALENDAR
VERSION:2.0
PRODID:-//Městská knihovna Orlová - ECPv4.4.5//NONSGML v1.0//EN
CALSCALE:GREGORIAN
METHOD:PUBLISH
X-WR-CALNAME:Městská knihovna Orlová
X-ORIGINAL-URL:https://mko.knihovna-orlova.cz
X-WR-CALDESC:Events for Městská knihovna Orlová
BEGIN:VEVENT
DTSTART;TZID=UTC+1:20260112T090000
DTEND;TZID=UTC+1:20260112T110000
DTSTAMP:20260426T021048
CREATED:20260106T093653Z
LAST-MODIFIED:20260106T133709Z
UID:21994-1768208400-1768215600@mko.knihovna-orlova.cz
SUMMARY:Tvořivé dílny pro seniory
DESCRIPTION:12. 1. 2026\n9:00 – 11:00 hodin\nHřejivé dekorace pro chladné dny\nTvořivé dílny pro seniory\nVytvoříme si drobné zimní dekorace z příze a zbytků barevných úpletů a látek – mini závěsné dekorace\, srdíčka\, ptáčky\, či malé ozdobné polštářky. Ukážeme si jednoduché techniky lepení a šití\, které zvládne opravdu každý.\nVstupné: 50 Kč\nNutná rezervace v Městském informačním centru.\nŽivot plus senior – Městská knihovna Orlová (2. patro).\nInformace: prodejna@knihovna-orlova.cz\, 596 511 306
URL:https://mko.knihovna-orlova.cz/event/tvorive-dilny-pro-seniory/
END:VEVENT
END:VCALENDAR