BEGIN:VCALENDAR
VERSION:2.0
PRODID:-//Městská knihovna Orlová - ECPv4.4.5//NONSGML v1.0//EN
CALSCALE:GREGORIAN
METHOD:PUBLISH
X-WR-CALNAME:Městská knihovna Orlová
X-ORIGINAL-URL:https://mko.knihovna-orlova.cz
X-WR-CALDESC:Events for Městská knihovna Orlová
BEGIN:VEVENT
DTSTART;TZID=UTC+1:20220527T090000
DTEND;TZID=UTC+1:20220527T120000
DTSTAMP:20260421T121815
CREATED:20220309T105713Z
LAST-MODIFIED:20220309T105713Z
UID:16930-1653642000-1653652800@mko.knihovna-orlova.cz
SUMMARY:Tvořivé dílny v Senior Pointu
DESCRIPTION:\n\n\n\n\n\n\n27. 5. 2022\n9:00 – 12:00 hodin\nEnkaustika\nTvořivé dílny v Senior Pointu\nVhodné pro začátečníky.\nZúčastnit se mohou osoby nad 55 let.\nVstupné: zdarma\nInformace: Veronika Gavelčíková\, 596 522 449\, hudebni@knihovna-orlova.cz\n\n\n\n\n\n\n
URL:https://mko.knihovna-orlova.cz/event/tvorive-dilny-v-senior-pointu-4/
END:VEVENT
END:VCALENDAR