BEGIN:VCALENDAR
VERSION:2.0
PRODID:-//Městská knihovna Orlová - ECPv4.4.5//NONSGML v1.0//EN
CALSCALE:GREGORIAN
METHOD:PUBLISH
X-WR-CALNAME:Městská knihovna Orlová
X-ORIGINAL-URL:https://mko.knihovna-orlova.cz
X-WR-CALDESC:Events for Městská knihovna Orlová
BEGIN:VEVENT
DTSTART;TZID=UTC+1:20230220T090000
DTEND;TZID=UTC+1:20230220T120000
DTSTAMP:20260423T102432
CREATED:20230119T121402Z
LAST-MODIFIED:20230206T095513Z
UID:18293-1676883600-1676894400@mko.knihovna-orlova.cz
SUMMARY:Tvořivé dílny v Senior Pointu
DESCRIPTION:\n\n\n\n\n\n\n\n\n\n\n\n\n\n\n\n\n\n\n\n\n\n\n\n\n23. 1. až 19. 6. 2023\n9:00 – 12:00 hodin\nTvořivé dílny v Senior Pointu\n23. 1. Recyklujeme čajové sáčky\n20. 2. Pozor změna – Dekorace z černého drátu\n20. 3. Velikonoční tvoření\n24. 4. Macramé\, hrajeme si s uzlíky\n22. 5. Pozor změna – Smaltované šperky\n19. 6. Vyrábíme mýdlo\nZúčastnit se mohou osoby nad 55 let.\nVstupné: zdarma\nInformace: Jarmila Staniczková\, 596 522 449\, hudebni@knihovna-orlova.cz\n\n\n\n\n\n\n\n\n\n\n\n\n\n\n\n\n\n\n\n\n\n\n\n\n
URL:https://mko.knihovna-orlova.cz/event/tvorive-dilny-v-senior-pointu-9/
END:VEVENT
END:VCALENDAR