BEGIN:VCALENDAR
VERSION:2.0
PRODID:-//Městská knihovna Orlová - ECPv4.4.5//NONSGML v1.0//EN
CALSCALE:GREGORIAN
METHOD:PUBLISH
X-WR-CALNAME:Městská knihovna Orlová
X-ORIGINAL-URL:https://mko.knihovna-orlova.cz
X-WR-CALDESC:Events for Městská knihovna Orlová
BEGIN:VEVENT
DTSTART;TZID=UTC+1:20210330T160000
DTEND;TZID=UTC+1:20210330T180000
DTSTAMP:20260421T152609
CREATED:20210202T105426Z
LAST-MODIFIED:20210205T080538Z
UID:15245-1617120000-1617127200@mko.knihovna-orlova.cz
SUMMARY:Virtuální univerzita třetího věku
DESCRIPTION:Letní semestr 2021\nMistři evropského barokního malířství 17. století\n\nZačíná 2. 2. 2021 a koná se\, co 14 dní od 16:00 do 18:00 hodin. Během šesti videopřednášek seznámí posluchače s několika nejznámějšími mistry evropského malířství z období baroka v České republice.\nCena kurzu ČR: 350 Kč / student / semestr (cena po zahrnutí dotace)\nTermíny přednášek: 2. 2.\, 16. 2.\, 2. 3.\, 16. 3.\, 30. 3.\, 13. 4.\nGarant kurzu: Provozně ekonomická fakulta České zemědělské univerzity v Praze\nVýukový garant: doc. Mgr. Martin Pavlíček\, Ph.D.\nInformace: Bc. Pavla Gavelčíková\, hudebni@knihovna-orlova.cz
URL:https://mko.knihovna-orlova.cz/event/virtualni-univerzita-tretiho-veku-10/
END:VEVENT
END:VCALENDAR