BEGIN:VCALENDAR
VERSION:2.0
PRODID:-//Městská knihovna Orlová - ECPv4.4.5//NONSGML v1.0//EN
CALSCALE:GREGORIAN
METHOD:PUBLISH
X-WR-CALNAME:Městská knihovna Orlová
X-ORIGINAL-URL:https://mko.knihovna-orlova.cz
X-WR-CALDESC:Events for Městská knihovna Orlová
BEGIN:VEVENT
DTSTART;TZID=UTC+1:20220524T160000
DTEND;TZID=UTC+1:20220524T180000
DTSTAMP:20260421T140641
CREATED:20220406T094552Z
LAST-MODIFIED:20220406T094552Z
UID:17151-1653408000-1653415200@mko.knihovna-orlova.cz
SUMMARY:VLAJKY SVĚTA I.
DESCRIPTION: 24. 5. 2022\n16:00 – 18:00 hodin\nVLAJKY SVĚTA I.\nPřednáší: prof. RNDr. Vladimír Baar\, CSc.\nVznik vlajek\, jejich funkce\, základní pojmy. Barvy\, jejich odstíny a symbolika. Bikolóry\, trikolóry\, tetrakolóry\, pentakolóry. Podobné i stejné státní vlajky. Vlajky jako symboly národů\, regionů\, států i jedinců\, vztah k heraldice – typické středoevropské vlajky. Náboženské symboly na vlajkách – křesťanské\, islámské\, buddhistické\, hinduistické\, judaistické a další. Odraz na vlajkách států.\nInformace: knihovna@knihovna-orlova\, 596 522 449
URL:https://mko.knihovna-orlova.cz/event/vlajky-sveta-i/
END:VEVENT
END:VCALENDAR