BEGIN:VCALENDAR
VERSION:2.0
PRODID:-//Městská knihovna Orlová - ECPv4.4.5//NONSGML v1.0//EN
CALSCALE:GREGORIAN
METHOD:PUBLISH
X-WR-CALNAME:Městská knihovna Orlová
X-ORIGINAL-URL:https://mko.knihovna-orlova.cz
X-WR-CALDESC:Events for Městská knihovna Orlová
BEGIN:VEVENT
DTSTART;TZID=UTC+1:20220329T160000
DTEND;TZID=UTC+1:20220329T180000
DTSTAMP:20260421T105233
CREATED:20220103T100143Z
LAST-MODIFIED:20220103T100143Z
UID:16575-1648569600-1648576800@mko.knihovna-orlova.cz
SUMMARY:VU3V
DESCRIPTION:Dějiny oděvní kultury
URL:https://mko.knihovna-orlova.cz/event/vu3v-11/
END:VEVENT
END:VCALENDAR