BEGIN:VCALENDAR
VERSION:2.0
PRODID:-//Městská knihovna Orlová - ECPv4.4.5//NONSGML v1.0//EN
CALSCALE:GREGORIAN
METHOD:PUBLISH
X-WR-CALNAME:Městská knihovna Orlová
X-ORIGINAL-URL:https://mko.knihovna-orlova.cz
X-WR-CALDESC:Events for Městská knihovna Orlová
BEGIN:VEVENT
DTSTART;TZID=UTC+1:20211116T150000
DTEND;TZID=UTC+1:20211116T190000
DTSTAMP:20260421T015224
CREATED:20210729T082410Z
LAST-MODIFIED:20210729T082410Z
UID:16134-1637074800-1637089200@mko.knihovna-orlova.cz
SUMMARY:VU3V
DESCRIPTION:Virtuální univerzita třetího věku\n30. 9. 2021 až 14. 12. 2021\n16:00 – 19:00 hod.\nZimní semestr\nTéma Gian Lorenzo Bernini – genius evropského baroka – celkem 6 přednášek.\nPořádá Městská knihovna Orlová ve spolupráci se Zemědělskou univerzitou v Praze.\nVýjimečně začne zimní semestr ve čtvrtek 30. 9.  2021.\nDalší termíny již budou klasicky v úterý v 16:00 a to 19. 10.\, 2. 11.\, 16. 11.\, 30. 11. a 14. 12. 2021.\nCena za semestr: 350\,- Kč\, studium je určeno pro posluchače +55 let.\nPřihlášky jsou k dispozici ve studovně.\nInformace: Ing. Dáša Bulavová\, 596 522 449
URL:https://mko.knihovna-orlova.cz/event/vu3v-4/
END:VEVENT
END:VCALENDAR