BEGIN:VCALENDAR
VERSION:2.0
PRODID:-//Městská knihovna Orlová - ECPv4.4.5//NONSGML v1.0//EN
CALSCALE:GREGORIAN
METHOD:PUBLISH
X-WR-CALNAME:Městská knihovna Orlová
X-ORIGINAL-URL:https://mko.knihovna-orlova.cz
X-WR-CALDESC:Events for Městská knihovna Orlová
BEGIN:VEVENT
DTSTART;TZID=UTC+1:20241126T153000
DTEND;TZID=UTC+1:20241126T173000
DTSTAMP:20260423T204452
CREATED:20240827T131140Z
LAST-MODIFIED:20240827T131140Z
UID:20215-1732635000-1732642200@mko.knihovna-orlova.cz
SUMMARY:VU3V
DESCRIPTION:\n\n\n\n\n\n\n\n\n\n\n\n\n\n\n\n\n\n\n26. 11. 2024\n15:30 – 17:30 hodin\nVirtuální univerzita třetího věku\nZimní semestr\nTéma: České dějiny a jejich souvislosti – celkem 6 přednášek.\nVýukový garant: Prof. PhDr. Zdeněk Beneš\, CSc.\nDovětek v názvu kurzu České dějiny a jejich souvislosti není náhodný. To proto\, že české dějiny běžně chápeme jako „naše”\, tedy české\, Čechů. Avšak tyto naše dějiny se trvale odehrávají v mnohačetných a proměňujících se souvislostech národních\, státních\, kulturních\, ale i geografických a klimatických. Bez zřetele k nim je nelze pochopit. Proto kurz chce v míře\, kterou jeho plánovaný třísemestrální rozsah umožňuje\, na tyto souvislosti upozornit. Je tedy koncipován jako zamyšlení nad základními problémy českého dějinného vývoje a nikoli jako jeho faktografický přehled.\nPodmínky úspěšného absolvování kurzu: 70% docházka\, splnění testů\nCena kurzu ČR: 450 Kč student / semestr (cena po zahrnutí dotace)\nPořádá: Městská knihovna Orlová ve spolupráci s Českou zemědělskou univerzitou v Praze.\nZimní semestr začne v úterý 1. 10. 2024.\nPřihlášky jsou k dispozici ve studovně.\nPřednáškový sál – Městská knihovna Orlová (2. patro).\nInformace: Bc. Pavla Gavelčíková\, 596 522 449\, katal@knihovna-orlova.cz\n\n\n\n\n\n\n\n\n\n\n\n\n\n\n\n\n\n\n
URL:https://mko.knihovna-orlova.cz/event/vu3v-40/
END:VEVENT
END:VCALENDAR