BEGIN:VCALENDAR
VERSION:2.0
PRODID:-//Městská knihovna Orlová - ECPv4.4.5//NONSGML v1.0//EN
CALSCALE:GREGORIAN
METHOD:PUBLISH
X-WR-CALNAME:Městská knihovna Orlová
X-ORIGINAL-URL:https://mko.knihovna-orlova.cz
X-WR-CALDESC:Events for Městská knihovna Orlová
BEGIN:VEVENT
DTSTART;TZID=UTC+1:20191115T160000
DTEND;TZID=UTC+1:20191115T180000
DTSTAMP:20260425T003950
CREATED:20191014T121045Z
LAST-MODIFIED:20191017T093454Z
UID:13622-1573833600-1573840800@mko.knihovna-orlova.cz
SUMMARY:Výroba svíček
DESCRIPTION:Srdečně Vás zveme do výtvarné dílny paní Danuše Pytlíkové.\nVe čtvrtek 14. 11. se budou svíčky vyrábět a o den později 15. 11. vyndávat z forem. Začátek vždy od 16:00 hodin.\nVstupné: 100 Kč\nInformace: Bc. Pavla Gavelčíková\, 596 522 449\n\n 
URL:https://mko.knihovna-orlova.cz/event/vyroba-svicek-2/
END:VEVENT
END:VCALENDAR