BEGIN:VCALENDAR
VERSION:2.0
PRODID:-//Městská knihovna Orlová - ECPv4.4.5//NONSGML v1.0//EN
CALSCALE:GREGORIAN
METHOD:PUBLISH
X-WR-CALNAME:Městská knihovna Orlová
X-ORIGINAL-URL:https://mko.knihovna-orlova.cz
X-WR-CALDESC:Events for Městská knihovna Orlová
BEGIN:VEVENT
DTSTART;VALUE=DATE:20220523
DTEND;VALUE=DATE:20220531
DTSTAMP:20260421T151132
CREATED:20220422T133907Z
LAST-MODIFIED:20220422T133907Z
UID:17232-1653264000-1654041599@mko.knihovna-orlova.cz
SUMMARY:Výstava
DESCRIPTION:3. 5. 2022\n16:00 hodin\nPřednáška\nSpolečensko-enviromentální výzvy umělecké tvorby Františka Veselého\nVnímání genia loci (ducha krajiny) a kvality životního prostředí ve vědě a umění.\nPřednáší: Prof. PaedDr. Jaroslav Vencálek\, CSc.\n3. 5. až 31. 5. 2022\nVýstava\nOtevírací doba: Po\, Út\, Čt\, Pá: 8:00 – 18:00 hodin\n                             St: zavřeno\n                             So: 8:00 – 12:00 hodin\nVstupné: zdarma\nInformace: 596 511 306\, prodejna@knihovna-orlova.cz
URL:https://mko.knihovna-orlova.cz/event/vystava-3/
END:VEVENT
END:VCALENDAR