BEGIN:VCALENDAR
VERSION:2.0
PRODID:-//Městská knihovna Orlová - ECPv4.4.5//NONSGML v1.0//EN
CALSCALE:GREGORIAN
METHOD:PUBLISH
X-WR-CALNAME:Městská knihovna Orlová
X-ORIGINAL-URL:https://mko.knihovna-orlova.cz
X-WR-CALDESC:Events for Městská knihovna Orlová
BEGIN:VEVENT
DTSTART;TZID=UTC+1:20211007T080000
DTEND;TZID=UTC+1:20211102T180000
DTSTAMP:20260421T045527
CREATED:20210923T141814Z
LAST-MODIFIED:20210923T141814Z
UID:16291-1633593600-1635876000@mko.knihovna-orlova.cz
SUMMARY:Výstava ke 100. výročí knihovny
DESCRIPTION:Vnitřní moudrost poznání – Stir-up\n\n\nSrdečně Vás zveme na výstavu maleb surrealistické skupiny Stir-up.\n\nVystavují: Josef Kremláček\, Vladimír Kubíček\, Václav Pajurek\, Zdeněk Píža\, Lubomír Kerndl\, Ondřej Vorel\, Dagmar Mohylová\, Linda Filipová\, Josef Bubeník\, Jan Wolf\, Arnošt Budík\, Zdeněk Cibulka\, Jan Dočekal\, Gábina Kopcová\, Boris Hronza.\n\nObrazy budou vystaveny v minigalerii na schodišti a ve studovně.\nInformace: 596 511 306\, prodejna@knihovna-orlova.cz
URL:https://mko.knihovna-orlova.cz/event/vystava-ke-100-vyroci-knihovny/
END:VEVENT
END:VCALENDAR