BEGIN:VCALENDAR
VERSION:2.0
PRODID:-//Městská knihovna Orlová - ECPv4.4.5//NONSGML v1.0//EN
CALSCALE:GREGORIAN
METHOD:PUBLISH
X-WR-CALNAME:Městská knihovna Orlová
X-ORIGINAL-URL:https://mko.knihovna-orlova.cz
X-WR-CALDESC:Events for Městská knihovna Orlová
BEGIN:VEVENT
DTSTART;TZID=UTC+1:20240419T090000
DTEND;TZID=UTC+1:20240419T110000
DTSTAMP:20260421T193833
CREATED:20240222T110258Z
LAST-MODIFIED:20240222T110258Z
UID:19583-1713517200-1713524400@mko.knihovna-orlova.cz
SUMMARY:Vzdělávací kurzy pro seniory
DESCRIPTION:\n\n\n\n\n\n\n5. 4. – 26. 4. 2024\n9:00 až 11:00 hodin\nVzdělávací kurzy pro seniory\nSrdečně Vás zveme na Abecedu peněz pro seniory II..\nČeská spořitelna pořádá studijní kurzy\, které jsou určeny pro seniory.\nProbíhají v Senior Pointech – pod vedením dvou zkušených lektorek.\nBěhem vzdělávání je zajištěn individuální přístup a možnost opakování. \nV dnešním světě internetu\, nabídek digitálních služeb i techniky\, je potřeba se dobaře vyznat.\nPomoci vysvětlit používání moderní technologie a tím zároveň pomoci chránit se před nebezpečím\, které může být skryto v ON-LINE světě. A proto jsme tu! Pro Vás .\nNutná rezervace místa na telefonu 596 511 306 nebo emailu studovna@knihovna-orlova.cz\nKapacita 10 osob. PLNĚ OBSAZENO\nVstupné: zdarma\nSenior point – Městská knihovna Orlová (2. patro).\nInformace: 596 511 306\, studovna@knihovna-orlova.cz\n\n\n\n\n\n\n
URL:https://mko.knihovna-orlova.cz/event/vzdelavaci-kurzy-pro-seniory-11/
END:VEVENT
END:VCALENDAR