BEGIN:VCALENDAR
VERSION:2.0
PRODID:-//Městská knihovna Orlová - ECPv4.4.5//NONSGML v1.0//EN
CALSCALE:GREGORIAN
METHOD:PUBLISH
X-WR-CALNAME:Městská knihovna Orlová
X-ORIGINAL-URL:https://mko.knihovna-orlova.cz
X-WR-CALDESC:Events for Městská knihovna Orlová
BEGIN:VEVENT
DTSTART;TZID=UTC+1:20260314T090000
DTEND;TZID=UTC+1:20260314T110000
DTSTAMP:20260425T235119
CREATED:20260223T130415Z
LAST-MODIFIED:20260223T130911Z
UID:22273-1773478800-1773486000@mko.knihovna-orlova.cz
SUMMARY:Záhada staré knihovny
DESCRIPTION:\n\n\n\n\n\n\n\n\n\n\n\n\nPřesunuto na sobotu 14. 3. 2026!\n\n19. 2. 2026\n9:00 až 11:00 hodin\nZáhada staré knihovny\nÚniková hra k 105. výročí\nMáte doma malé detektivy\, zvídavé školáky nebo teenagery\, kteří mají rádi výzvy? Připravili jsme únikovou hru přímo v knihovně\, která prověří logiku\, postřeh i týmovou spolupráci.\nČekají vás hádanky\, šifry\, tajemství ukrytá mezi knihami a závod s časem. Hra je přizpůsobena dětem od 6 do 15 let a zabaví jak mladší účastníky\, tak i straší hráče\, kteří už hledají něco „víc než jen hraní“.\nVhodné pro děti od 6 do 15 let.\nVstupné: 50 Kč\nNutná rezervace místa.\nMěstská knihovna Orlová\, oddělení pro děti a mládež (přízemí)\nInformace: detska.knihovna@knihovna-orlova.cz\, 596 522 449 \n\n\n\n\n\n\n\n\n\n\n\n\n
URL:https://mko.knihovna-orlova.cz/event/zahada-stare-knihovny/
ORGANIZER;CN="M%C4%9Bstsk%C3%A1%20knihovna%20Orlov%C3%A1":MAILTO:detska.knihovna@knihovna-orlova.cz
END:VEVENT
END:VCALENDAR