BEGIN:VCALENDAR
VERSION:2.0
PRODID:-//Městská knihovna Orlová - ECPv4.4.5//NONSGML v1.0//EN
CALSCALE:GREGORIAN
METHOD:PUBLISH
X-WR-CALNAME:Městská knihovna Orlová
X-ORIGINAL-URL:https://mko.knihovna-orlova.cz
X-WR-CALDESC:Events for Městská knihovna Orlová
BEGIN:VEVENT
DTSTART;TZID=UTC+1:20211021T093000
DTEND;TZID=UTC+1:20211021T120000
DTSTAMP:20260421T123148
CREATED:20210925T084442Z
LAST-MODIFIED:20210925T084442Z
UID:16329-1634808600-1634817600@mko.knihovna-orlova.cz
SUMMARY:Zápichy do květináčů
DESCRIPTION:Výtvarná dílna. Setkávání u ručních prací.\nZe samotvrdnoucí hmoty můžeme snadno vytvářet dekorace zdobené nejrůznějšími otisky. Vyrobte si s námi zápichy s krajkovým motivem a ozdobte si s nimi květináče.\nBudeme potřebovat: samotvrdnoucí hmotu\, výraznou krajku\, akrylové barvy\, plochý štětec\, nůž\, plastovou podložku\, váleček nebo jinou roli\, vykrajovátka na cukroví\, špejle a stuhy.\nVstupné: zdarma\nInformace: Lenka Heczková\, 596 522 449\, knihovna@knihovna-orlova.cz
URL:https://mko.knihovna-orlova.cz/event/zapichy-do-kvetinacu/
END:VEVENT
END:VCALENDAR