BEGIN:VCALENDAR
VERSION:2.0
PRODID:-//Městská knihovna Orlová - ECPv4.4.5//NONSGML v1.0//EN
CALSCALE:GREGORIAN
METHOD:PUBLISH
X-WR-CALNAME:Městská knihovna Orlová
X-ORIGINAL-URL:https://mko.knihovna-orlova.cz
X-WR-CALDESC:Events for Městská knihovna Orlová
BEGIN:VEVENT
DTSTART;VALUE=DATE:20220509
DTEND;VALUE=DATE:20220522
DTSTAMP:20260421T133307
CREATED:20220406T095042Z
LAST-MODIFIED:20220406T095042Z
UID:17157-1652054400-1653263999@mko.knihovna-orlova.cz
SUMMARY:Zavřeno
DESCRIPTION:Zavřeno - Revize knihovního fondu\nV květnu nás čeká plánovaná revize knihovního fondu. Proto bude v termínu od 9. 5. do 22. 5. 2022 knihovna uzavřena pro veřejnost. Knihy bude možné vracet do návratového boxu před budovou.
URL:https://mko.knihovna-orlova.cz/event/zavreno/
END:VEVENT
END:VCALENDAR