BEGIN:VCALENDAR
VERSION:2.0
PRODID:-//Městská knihovna Orlová - ECPv4.4.5//NONSGML v1.0//EN
CALSCALE:GREGORIAN
METHOD:PUBLISH
X-WR-CALNAME:Městská knihovna Orlová
X-ORIGINAL-URL:https://mko.knihovna-orlova.cz
X-WR-CALDESC:Events for Městská knihovna Orlová
BEGIN:VEVENT
DTSTART;VALUE=DATE:20190905
DTEND;VALUE=DATE:20191105
DTSTAMP:20260424T092656
CREATED:20190819T104123Z
LAST-MODIFIED:20190820T074627Z
UID:13083-1567641600-1572998399@mko.knihovna-orlova.cz
SUMMARY:Výstava Zachraňme stromy
DESCRIPTION:Kolektivní výstava malířů z ateliéru Viridian.\nInformace: Nikolina Donkovová\, 596 511 306\n\n \n\n \n\n \n\n 
URL:https://mko.knihovna-orlova.cz/event/zachranme-stromy/
END:VEVENT
BEGIN:VEVENT
DTSTART;TZID=UTC+1:20191105T160000
DTEND;TZID=UTC+1:20191105T180000
DTSTAMP:20260424T092656
CREATED:20190905T073752Z
LAST-MODIFIED:20190905T073800Z
UID:13378-1572969600-1572976800@mko.knihovna-orlova.cz
SUMMARY:Virtuální univerzita třetího věku – Lidské zdraví
DESCRIPTION:Městská knihovna Orlová ve spolupráci s Českou zemědělskou univerzitou v Praze\, provozně ekonomickou fakultou\, pořádá kurz na téma Lidské zdraví. Kurz probíhá v úterý co 14 dní od 16 hodin virtuální formou v přednáškovém sále Městské knihovny Orlová.\nCena kurzu: 350\,- Kč. Přihlášky jsou k dispozici ve studovně.\nStudia se mohou účastnit tito posluchači:\n– občané České republiky důchodového věku (osoba\, která dosáhla věku\, ve kterém má nárok na pobírání starobního důchodu) nebo invalidní důchodci\nInformace: Bc. Pavla Gavelčíková\, 596 522 449
URL:https://mko.knihovna-orlova.cz/event/virtualni-univerzita-tretiho-veku-lidske-zdravi-3/
END:VEVENT
END:VCALENDAR