BEGIN:VCALENDAR
VERSION:2.0
PRODID:-//Městská knihovna Orlová - ECPv4.4.5//NONSGML v1.0//EN
CALSCALE:GREGORIAN
METHOD:PUBLISH
X-WR-CALNAME:Městská knihovna Orlová
X-ORIGINAL-URL:https://mko.knihovna-orlova.cz
X-WR-CALDESC:Events for Městská knihovna Orlová
BEGIN:VEVENT
DTSTART;VALUE=DATE:20191107
DTEND;VALUE=DATE:20191203
DTSTAMP:20260424T194247
CREATED:20191106T085149Z
LAST-MODIFIED:20191106T085405Z
UID:13689-1573084800-1575417599@mko.knihovna-orlova.cz
SUMMARY:Svět mých snů
DESCRIPTION:Výstava olejomaleb Františka Lukašáka\nInformace: Nikolina Donkovová\, 596 511 306\n\n \n\n \n\n 
URL:https://mko.knihovna-orlova.cz/event/svet-mych-snu/
END:VEVENT
BEGIN:VEVENT
DTSTART;TZID=UTC+1:20191112T090000
DTEND;TZID=UTC+1:20191112T120000
DTSTAMP:20260424T194247
CREATED:20191014T120322Z
LAST-MODIFIED:20191017T083302Z
UID:13614-1573549200-1573560000@mko.knihovna-orlova.cz
SUMMARY:Setkávání s mozkovými závity
DESCRIPTION:Cvičení pro lepší paměť zábavnou formou!\nPřednáší PhDr. Mgr. Hana Vavříková\, PhD.\nVstupné: 100\,- Kč / celý cyklus\, 30\,- Kč / 1 lekce\nInformace: Taťána Jaroschová\, 596 522 449\n\n 
URL:https://mko.knihovna-orlova.cz/event/setkavani-s-mozkovymi-zavity-24/
END:VEVENT
BEGIN:VEVENT
DTSTART;TZID=UTC+1:20191112T160000
DTEND;TZID=UTC+1:20191112T190000
DTSTAMP:20260424T194247
CREATED:20190905T082618Z
LAST-MODIFIED:20190905T082628Z
UID:13401-1573574400-1573585200@mko.knihovna-orlova.cz
SUMMARY:Akademie třetího věku (5. přednáška)
DESCRIPTION:Výživa v seniorském věku: mýty a fakta – přednáší Mgr. Anna Zatloukalová\, Ph.D. \nMěstská knihovna Orlová ve spolupráci s Lékařskou fakultou Ostravské univerzity\, Ústavem epidemiologie a ochrany veřejného zdraví\, pořádá zimní semestr akademie třetího věku.\nCena za semestr: 300\,- Kč\, studium je určeno pro posluchače + 55 let.\nPřihlášky jsou k dispozici ve studovně.\nInformace: Bc. Pavla Gavelčíková\, 596 522 449\n
URL:https://mko.knihovna-orlova.cz/event/akademie-tretiho-veku-5-prednaska/
END:VEVENT
END:VCALENDAR