BEGIN:VCALENDAR
VERSION:2.0
PRODID:-//Městská knihovna Orlová - ECPv4.4.5//NONSGML v1.0//EN
CALSCALE:GREGORIAN
METHOD:PUBLISH
X-WR-CALNAME:Městská knihovna Orlová
X-ORIGINAL-URL:https://mko.knihovna-orlova.cz
X-WR-CALDESC:Events for Městská knihovna Orlová
BEGIN:VEVENT
DTSTART;VALUE=DATE:20200514
DTEND;VALUE=DATE:20200630
DTSTAMP:20260423T111410
CREATED:20200521T092937Z
LAST-MODIFIED:20200521T093319Z
UID:14572-1589414400-1593561599@mko.knihovna-orlova.cz
SUMMARY:Výstava žáků MŠ Okružní
DESCRIPTION:Informace: Nikolina Donkovová\, 596 511 306
URL:https://mko.knihovna-orlova.cz/event/vystava-zaku-ms-okruzni/
END:VEVENT
END:VCALENDAR