BEGIN:VCALENDAR
VERSION:2.0
PRODID:-//Městská knihovna Orlová - ECPv4.4.5//NONSGML v1.0//EN
CALSCALE:GREGORIAN
METHOD:PUBLISH
X-WR-CALNAME:Městská knihovna Orlová
X-ORIGINAL-URL:https://mko.knihovna-orlova.cz
X-WR-CALDESC:Events for Městská knihovna Orlová
BEGIN:VEVENT
DTSTART;TZID=UTC+1:20230311T083000
DTEND;TZID=UTC+1:20230311T103000
DTSTAMP:20260423T002809
CREATED:20230119T104906Z
LAST-MODIFIED:20230119T104935Z
UID:18270-1678523400-1678530600@mko.knihovna-orlova.cz
SUMMARY:Drátování-Oplet dřevěného vajíčka
DESCRIPTION:\n\n\n\n\n\n\n11. 3. 2023\n8:30 – 10:30 hodin\nDrátování\nOplet dřevěného vajíčka\nOzdobíme si vajíčko měkkým měděným drátem a stužkou. Vhodné pro dospělé i děti od 12 let. Cena 210 Kč. V ceně je veškerý materiál vč. zapůjčení nářadí. Délka cca 2 hodiny. Před kurzem bude ukázka tvorby s možností zakoupení výrobků. Max 20 osob. Rezervace místa a platba předem v Městském informačním centru.\nVstupné: 210 Kč\nInformace: 596 511 306\, prodejna@knihovna-orlova.cz\n\n\n\n\n\n\n
URL:https://mko.knihovna-orlova.cz/event/dratovani-oplet-dreveneho-vajicka/
END:VEVENT
END:VCALENDAR