BEGIN:VCALENDAR
VERSION:2.0
PRODID:-//Městská knihovna Orlová - ECPv4.4.5//NONSGML v1.0//EN
CALSCALE:GREGORIAN
METHOD:PUBLISH
X-WR-CALNAME:Městská knihovna Orlová
X-ORIGINAL-URL:https://mko.knihovna-orlova.cz
X-WR-CALDESC:Events for Městská knihovna Orlová
BEGIN:VEVENT
DTSTART;TZID=UTC+1:20230313T090000
DTEND;TZID=UTC+1:20230317T120000
DTSTAMP:20260422T225034
CREATED:20230206T084852Z
LAST-MODIFIED:20230206T084852Z
UID:18356-1678698000-1679054400@mko.knihovna-orlova.cz
SUMMARY:Jarní prázdniny v knihovně
DESCRIPTION:\n\n\n\n\n\n\n13. 3. – 17. 3. 2023\n9:00 – 12:00 hodin\nJarní prázdniny v knihovně\nPořádá oddělení pro děti a mládež.\n13. 3. 2023 Knihovna čar a kouzel – kouzelníci a kouzelnice si vyzkouší své dovednosti a znalosti\, akce vhodná pro děti od 7 do 12 let\n14. 3. 2023 Papilonia motýlí ráj – pestrobarevný svět motýlů přivítá jaro\, akce vhodná pro děti od 3 do 10 let\n15. 3. 2023 Zamčená knihovna – vyřešením úkolů se dostanete ze zamčené knihovny\, akce vhodná pro děti od 7 do 12 let\n16. 3. 2023 Loukotvoření – jarní louka z papíru plná broučků a berušek\, akce vhodná pro děti od 3 do 10 let\n17. 3. 2023 Deskohraní – skvělá zábava se spoustou deskových her\, akce vhodná pro děti od 7 do 12 let\nVstupné: zdarma\nNutná rezervace místa.\nInformace a rezervace: Ivana Vicherková\, 596 522 449\, detska.knihovna@knihovna-orlova.cz\n\n\n\n\n\n\n
URL:https://mko.knihovna-orlova.cz/event/jarni-prazdniny-v-knihovne-2/
END:VEVENT
BEGIN:VEVENT
DTSTART;TZID=UTC+1:20230314T150000
DTEND;TZID=UTC+1:20230314T170000
DTSTAMP:20260422T225034
CREATED:20230119T120747Z
LAST-MODIFIED:20230119T120747Z
UID:18285-1678806000-1678813200@mko.knihovna-orlova.cz
SUMMARY:VU3V
DESCRIPTION:\n\n\n\n\n\n\n\n\n\n\n\n\n\n\n\n\n\n\n\n\n\n\n\n\n\n\n\n\n\n\n\n\n\n\n\n\n\n\n\n\n\n\n31. 1. 2023 až 11. 4. 2022\n15:00 – 17:00 hodin\nVirtuální univerzita třetího věku\nLetní semestr\nTéma Dějiny oděvní kultury III. – celkem 6 přednášek.\nLektor: Ing. Petr Tylínek\nPořádá Městská knihovna Orlová ve spolupráci s Českou zemědělskou univerzitou v Praze.\nLetní semestr začne v úterý 31. 1.  2023.\nDalší termíny vždy v úterý v 15:00 a to 14. 2.\, 28. 2.\, 14. 3.\, 28. 3. 11. 4. 2023\nCena za semestr: 450\,- Kč\nPřihlášky jsou k dispozici ve studovně.\nInformace: Bc. Pavla Gavelčíková\, 596 522 449\n\n\n\n\n\n\n\n\n\n\n\n\n\n\n\n\n\n\n\n\n\n\n\n\n\n\n\n\n\n\n\n\n\n\n\n\n\n\n\n\n\n\n
URL:https://mko.knihovna-orlova.cz/event/vu3v-22/
END:VEVENT
END:VCALENDAR