BEGIN:VCALENDAR
VERSION:2.0
PRODID:-//Městská knihovna Orlová - ECPv4.4.5//NONSGML v1.0//EN
CALSCALE:GREGORIAN
METHOD:PUBLISH
X-WR-CALNAME:Městská knihovna Orlová
X-ORIGINAL-URL:https://mko.knihovna-orlova.cz
X-WR-CALDESC:Events for Městská knihovna Orlová
BEGIN:VEVENT
DTSTART;VALUE=DATE:20240201
DTEND;VALUE=DATE:20240402
DTSTAMP:20260421T051231
CREATED:20240123T130129Z
LAST-MODIFIED:20240123T130129Z
UID:19454-1706745600-1712102399@mko.knihovna-orlova.cz
SUMMARY:Výstava
DESCRIPTION:1. 2. 2024 až 2. 4. 2024\nIzabela Sajdok\nPříběhy odjinud\nSérie originálních obrazů malovaných olejem na plátně a digitální reprodukce obrazů v archivní kvalitě na papíře Hahnemuhle (Art print).\nObrazy jsou namalované v mém studiu v Terrigal\, Austrálií.. u pobřeží oceánu. Použila jsem především olej\, který je pro mě médium\, jež nejlépe znázorňuje esenci\, kterou se snažím vyjádřit. Je to hra barev\, vrstev a dynamika tahů štětcem.\nArt printy v rámečcích jsou digitální reprodukce mých originálních obrazů vystavovaných v předchozích letech v Austrálii.\nVíce o mě a mé tvorbě: www.eyeinthewater.com\, instagram – eyeinthewater\, FB – Eyeinthewater Izabela Sajdoková\nObrázky budou vystaveny v minigalerii na schodišti a ve studovně.\nOtevírací doba: Po\, Út\, Čt\, Pá: 8:00 – 18:00 hodin\n                                                  St: zavřeno\n                                                  So: 8:00 – 12.00 hodin\nVstupné: zdarma\nInformace: 596 511 306\, prodejna@knihovna-orlova.cz
URL:https://mko.knihovna-orlova.cz/event/vystava-10/
END:VEVENT
END:VCALENDAR